Workbook

Sheet UW Budget
A1: Variables | B1: sal Infl | C1: 0 | D1: FB Infl | E1: 0
A2: Project Budget
A3: Requested | C3: salary | D3: % effort | E3: YEAR One | F3: YEAR Two | G3: YEAR Three | H3: YEAR Four | I3: YEAR Five | J3: Total
A4: Key Personnel
A5: PI | C5: 0 | D5: 0 | E5: =ROUND($C5*$D5,0) -> 0 | F5: =ROUND(($C5*($C$1+1)^1)*$D5,0) -> 0 | G5: =ROUND(($C5*($C$1+1)^2)*$D5,0) -> 0 | H5: =ROUND(($C5*($C$1+1)^3)*$D5,0) -> 0 | I5: =ROUND(($C5*($C$1+1)^4)*$D5,0) -> 0 | J5: =ROUND(SUM(E5:I5),0) -> 0
A6: Fringe benefits | B6: 0.353 | E6: =ROUND($E5*$B6,0) -> 0 | F6: =ROUND($F5*($B6+($E$1)),0) -> 0 | G6: =ROUND($G5*($B6+($E$1+$E$1)),0) -> 0 | H6: =ROUND($H5*($B6+($E$1+$E$1+$E$1)),0) -> 0 | I6: =ROUND($I5*($B6+($E$1+$E$1+$E$1+$E$1)),0) -> 0 | J6: =ROUND(SUM(E6:I6),0) -> 0
A7: Key Personnel | C7: 0 | D7: 0 | E7: =ROUND($C7*$D7,0) -> 0 | F7: =ROUND(($C7*($C$1+1)^1)*$D7,0) -> 0 | G7: =ROUND(($C7*($C$1+1)^2)*$D7,0) -> 0 | H7: =ROUND(($C7*($C$1+1)^3)*$D7,0) -> 0 | I7: =ROUND(($C7*($C$1+1)^4)*$D7,0) -> 0 | J7: =ROUND(SUM(E7:I7),0) -> 0
A8: Fringe benefits | B8: 0.353 | E8: =ROUND($E7*$B8,0) -> 0 | F8: =ROUND($F7*($B8+($E$1)),0) -> 0 | G8: =ROUND($G7*($B8+($E$1+$E$1)),0) -> 0 | H8: =ROUND($H7*($B8+($E$1+$E$1+$E$1)),0) -> 0 | I8: =ROUND($I7*($B8+($E$1+$E$1+$E$1+$E$1)),0) -> 0 | J8: =ROUND(SUM(E8:I8),0) -> 0
A9: Key Personnel | C9: 0 | D9: 0 | E9: =ROUND($C9*$D9,0) -> 0 | F9: =ROUND(($C9*($C$1+1)^1)*$D9,0) -> 0 | G9: =ROUND(($C9*($C$1+1)^2)*$D9,0) -> 0 | H9: =ROUND(($C9*($C$1+1)^3)*$D9,0) -> 0 | I9: =ROUND(($C9*($C$1+1)^4)*$D9,0) -> 0 | J9: =ROUND(SUM(E9:I9),0) -> 0
A10: Fringe benefits | B10: 0.353 | E10: =ROUND($E9*$B10,0) -> 0 | F10: =ROUND($F9*($B10+($E$1)),0) -> 0 | G10: =ROUND($G9*($B10+($E$1+$E$1)),0) -> 0 | H10: =ROUND($H9*($B10+($E$1+$E$1+$E$1)),0) -> 0 | I10: =ROUND($I9*($B10+($E$1+$E$1+$E$1+$E$1)),0) -> 0 | J10: =ROUND(SUM(E10:I10),0) -> 0
A11: Key Personnel | C11: 0 | D11: 0 | E11: =ROUND($C11*$D11,0) -> 0 | F11: =ROUND(($C11*($C$1+1)^1)*$D11,0) -> 0 | G11: =ROUND(($C11*($C$1+1)^2)*$D11,0) -> 0 | H11: =ROUND(($C11*($C$1+1)^3)*$D11,0) -> 0 | I11: =ROUND(($C11*($C$1+1)^4)*$D11,0) -> 0 | J11: =ROUND(SUM(E11:I11),0) -> 0
A12: Fringe benefits | B12: 0.353 | E12: =ROUND($E11*$B12,0) -> 0 | F12: =ROUND($F11*($B12+($E$1)),0) -> 0 | G12: =ROUND($G11*($B12+($E$1+$E$1)),0) -> 0 | H12: =ROUND($H11*($B12+($E$1+$E$1+$E$1)),0) -> 0 | I12: =ROUND($I11*($B12+($E$1+$E$1+$E$1+$E$1)),0) -> 0 | J12: =ROUND(SUM(E12:I12),0) -> 0
A13: Other Personnel
A14: Academic Staff | C14: 0 | D14: 0 | E14: =ROUND($C14*$D14,0) -> 0 | F14: =ROUND(($C14*($C$1+1)^1)*$D14,0) -> 0 | G14: =ROUND(($C14*($C$1+1)^2)*$D14,0) -> 0 | H14: =ROUND(($C14*($C$1+1)^3)*$D14,0) -> 0 | I14: =ROUND(($C14*($C$1+1)^4)*$D14,0) -> 0 | J14: =ROUND(SUM(E14:I14),0) -> 0
A15: Fringe benefits | B15: 0.353 | E15: =ROUND($E14*$B15,0) -> 0 | F15: =ROUND($F14*($B15+($E$1)),0) -> 0 | G15: =ROUND($G14*($B15+($E$1+$E$1)),0) -> 0 | H15: =ROUND($H14*($B15+($E$1+$E$1+$E$1)),0) -> 0 | I15: =ROUND($I14*($B15+($E$1+$E$1+$E$1+$E$1)),0) -> 0 | J15: =ROUND(SUM(E15:I15),0) -> 0
A16: Academic Staff | C16: 0 | D16: 0 | E16: =ROUND($C16*$D16,0) -> 0 | F16: =ROUND(($C16*($C$1+1)^1)*$D16,0) -> 0 | G16: =ROUND(($C16*($C$1+1)^2)*$D16,0) -> 0 | H16: =ROUND(($C16*($C$1+1)^3)*$D16,0) -> 0 | I16: =ROUND(($C16*($C$1+1)^4)*$D16,0) -> 0 | J16: =ROUND(SUM(E16:I16),0) -> 0
A17: Fringe benefits | B17: 0.353 | E17: =ROUND($E16*$B17,0) -> 0 | F17: =ROUND($F16*($B17+($E$1)),0) -> 0 | G17: =ROUND($G16*($B17+($E$1+$E$1)),0) -> 0 | H17: =ROUND($H16*($B17+($E$1+$E$1+$E$1)),0) -> 0 | I17: =ROUND($I16*($B17+($E$1+$E$1+$E$1+$E$1)),0) -> 0 | J17: =ROUND(SUM(E17:I17),0) -> 0
A18: Academic Staff | C18: 0 | D18: 0 | E18: =ROUND($C18*$D18,0) -> 0 | F18: =ROUND(($C18*($C$1+1)^1)*$D18,0) -> 0 | G18: =ROUND(($C18*($C$1+1)^2)*$D18,0) -> 0 | H18: =ROUND(($C18*($C$1+1)^3)*$D18,0) -> 0 | I18: =ROUND(($C18*($C$1+1)^4)*$D18,0) -> 0 | J18: =ROUND(SUM(E18:I18),0) -> 0
A19: Fringe benefits | B19: 0.353 | E19: =ROUND($E18*$B19,0) -> 0 | F19: =ROUND($F18*($B19+($E$1)),0) -> 0 | G19: =ROUND($G18*($B19+($E$1+$E$1)),0) -> 0 | H19: =ROUND($H18*($B19+($E$1+$E$1+$E$1)),0) -> 0 | I19: =ROUND($I18*($B19+($E$1+$E$1+$E$1+$E$1)),0) -> 0 | J19: =ROUND(SUM(E19:I19),0) -> 0
A20: Academic Staff | C20: 0 | D20: 0 | E20: =ROUND($C20*$D20,0) -> 0 | F20: =ROUND(($C20*($C$1+1)^1)*$D20,0) -> 0 | G20: =ROUND(($C20*($C$1+1)^2)*$D20,0) -> 0 | H20: =ROUND(($C20*($C$1+1)^3)*$D20,0) -> 0 | I20: =ROUND(($C20*($C$1+1)^4)*$D20,0) -> 0 | J20: =ROUND(SUM(E20:I20),0) -> 0
A21: Fringe benefits | B21: 0.353 | E21: =ROUND($E20*$B21,0) -> 0 | F21: =ROUND($F20*($B21+($E$1)),0) -> 0 | G21: =ROUND($G20*($B21+($E$1+$E$1)),0) -> 0 | H21: =ROUND($H20*($B21+($E$1+$E$1+$E$1)),0) -> 0 | I21: =ROUND($I20*($B21+($E$1+$E$1+$E$1+$E$1)),0) -> 0 | J21: =ROUND(SUM(E21:I21),0) -> 0
A22: Grad Student Research Assistant | C22: 0 | D22: 0 | E22: =ROUND($C22*$D22,0) -> 0 | F22: =ROUND(($C22*($C$1+1)^1)*$D22,0) -> 0 | G22: =ROUND(($C22*($C$1+1)^2)*$D22,0) -> 0 | H22: =ROUND(($C22*($C$1+1)^3)*$D22,0) -> 0 | I22: =ROUND(($C22*($C$1+1)^4)*$D22,0) -> 0 | J22: =ROUND(SUM(E22:I22),0) -> 0
A23: Fringe benefits | B23: 0.215 | E23: =ROUND($E22*$B23,0) -> 0 | F23: =ROUND($F22*($B23+($E$1)),0) -> 0 | G23: =ROUND($G22*($B23+($E$1+$E$1)),0) -> 0 | H23: =ROUND($H22*($B23+($E$1+$E$1+$E$1)),0) -> 0 | I23: =ROUND($I22*($B23+($E$1+$E$1+$E$1+$E$1)),0) -> 0 | J23: =ROUND(SUM(E23:I23),0) -> 0
A24: Grad Student Research Assistant | C24: 0 | D24: 0 | E24: =ROUND($C24*$D24,0) -> 0 | F24: =ROUND(($C24*($C$1+1)^1)*$D24,0) -> 0 | G24: =ROUND(($C24*($C$1+1)^2)*$D24,0) -> 0 | H24: =ROUND(($C24*($C$1+1)^3)*$D24,0) -> 0 | I24: =ROUND(($C24*($C$1+1)^4)*$D24,0) -> 0 | J24: =ROUND(SUM(E24:I24),0) -> 0
A25: Fringe benefits | B25: 0.215 | E25: =ROUND($E24*$B25,0) -> 0 | F25: =ROUND($F24*($B25+($E$1)),0) -> 0 | G25: =ROUND($G24*($B25+($E$1+$E$1)),0) -> 0 | H25: =ROUND($H24*($B25+($E$1+$E$1+$E$1)),0) -> 0 | I25: =ROUND($I24*($B25+($E$1+$E$1+$E$1+$E$1)),0) -> 0 | J25: =ROUND(SUM(E25:I25),0) -> 0
A26: Postdoctoral Research Associate | C26: 0 | D26: 0 | E26: =ROUND($C26*$D26,0) -> 0 | F26: =ROUND(($C26*($C$1+1)^1)*$D26,0) -> 0 | G26: =ROUND(($C26*($C$1+1)^2)*$D26,0) -> 0 | H26: =ROUND(($C26*($C$1+1)^3)*$D26,0) -> 0 | I26: =ROUND(($C26*($C$1+1)^4)*$D26,0) -> 0 | J26: =ROUND(SUM(E26:I26),0) -> 0
A27: Fringe benefits | B27: 0.199 | E27: =ROUND($E26*$B27,0) -> 0 | F27: =ROUND($F26*($B27+($E$1)),0) -> 0 | G27: =ROUND($G26*($B27+($E$1+$E$1)),0) -> 0 | H27: =ROUND($H26*($B27+($E$1+$E$1+$E$1)),0) -> 0 | I27: =ROUND($I26*($B27+($E$1+$E$1+$E$1+$E$1)),0) -> 0 | J27: =ROUND(SUM(E27:I27),0) -> 0
A28: Postdoctoral Research Associate | C28: 0 | D28: 0 | E28: =ROUND($C28*$D28,0) -> 0 | F28: =ROUND(($C28*($C$1+1)^1)*$D28,0) -> 0 | G28: =ROUND(($C28*($C$1+1)^2)*$D28,0) -> 0 | H28: =ROUND(($C28*($C$1+1)^3)*$D28,0) -> 0 | I28: =ROUND(($C28*($C$1+1)^4)*$D28,0) -> 0 | J28: =ROUND(SUM(E28:I28),0) -> 0
A29: Fringe benefits | B29: 0.199 | E29: =ROUND($E28*$B29,0) -> 0 | F29: =ROUND($F28*($B29+($E$1)),0) -> 0 | G29: =ROUND($G28*($B29+($E$1+$E$1)),0) -> 0 | H29: =ROUND($H28*($B29+($E$1+$E$1+$E$1)),0) -> 0 | I29: =ROUND($I28*($B29+($E$1+$E$1+$E$1+$E$1)),0) -> 0 | J29: =ROUND(SUM(E29:I29),0) -> 0
A30: Undergraduate Hourly | C30: 0 | D30: 0 | E30: =ROUND($C30*$D30,0) -> 0 | F30: =ROUND(($C30*($C$1+1)^1)*$D30,0) -> 0 | G30: =ROUND(($C30*($C$1+1)^2)*$D30,0) -> 0 | H30: =ROUND(($C30*($C$1+1)^3)*$D30,0) -> 0 | I30: =ROUND(($C30*($C$1+1)^4)*$D30,0) -> 0 | J30: =ROUND(SUM(E30:I30),0) -> 0
A31: Fringe benefits | B31: 0.042 | E31: =ROUND($E30*$B31,0) -> 0 | F31: =ROUND($F30*($B31+($E$1)),0) -> 0 | G31: =ROUND($G30*($B31+($E$1+$E$1)),0) -> 0 | H31: =ROUND($H30*($B31+($E$1+$E$1+$E$1)),0) -> 0 | I31: =ROUND($I30*($B31+($E$1+$E$1+$E$1+$E$1)),0) -> 0 | J31: =ROUND(SUM(E31:I31),0) -> 0
A32: Undergraduate Hourly | C32: 0 | D32: 0 | E32: =ROUND($C32*$D32,0) -> 0 | F32: =ROUND(($C32*($C$1+1)^1)*$D32,0) -> 0 | G32: =ROUND(($C32*($C$1+1)^2)*$D32,0) -> 0 | H32: =ROUND(($C32*($C$1+1)^3)*$D32,0) -> 0 | I32: =ROUND(($C32*($C$1+1)^4)*$D32,0) -> 0 | J32: =ROUND(SUM(E32:I32),0) -> 0
A33: Fringe benefits | B33: 0.042 | E33: =ROUND($E32*$B33,0) -> 0 | F33: =ROUND($F32*($B33+($E$1)),0) -> 0 | G33: =ROUND($G32*($B33+($E$1+$E$1)),0) -> 0 | H33: =ROUND($H32*($B33+($E$1+$E$1+$E$1)),0) -> 0 | I33: =ROUND($I32*($B33+($E$1+$E$1+$E$1+$E$1)),0) -> 0 | J33: =ROUND(SUM(E33:I33),0) -> 0
A34: Total Salary and Fringe Benefits (A+B) | E34: =ROUND(SUM(E5:E33),0) -> 0 | F34: =ROUND(SUM(F5:F33),0) -> 0 | G34: =ROUND(SUM(G5:G33),0) -> 0 | H34: =ROUND(SUM(H5:H33),0) -> 0 | I34: =ROUND(SUM(I5:I33),0) -> 0 | J34: =ROUND(SUM(E34:I34),0) -> 0
A35: Equipment | E35: 0 | F35: 0 | G35: 0 | H35: 0 | I35: 0 | J35: =ROUND(SUM(E35:I35),0) -> 0
A36: Participant Support Costs | E36: ='Participant Support Costs'!B8 -> 0 | F36: ='Participant Support Costs'!C8 -> 0 | G36: ='Participant Support Costs'!D8 -> 0 | H36: ='Participant Support Costs'!E8 -> 0 | I36: ='Participant Support Costs'!F8 -> 0 | J36: ='Participant Support Costs'!G8 -> 0 | K36: Please enter costs in Participant Support Costs Tab
A37: Domestic Travel | E37: 0 | F37: 0 | G37: 0 | H37: 0 | I37: 0 | J37: =ROUND(SUM(E37:I37),0) -> 0
A38: Foreign Travel | E38: 0 | F38: 0 | G38: 0 | H38: 0 | I38: 0 | J38: =ROUND(SUM(E38:I38),0) -> 0
A39: Materials & Supplies | E39: 0 | F39: 0 | G39: 0 | H39: 0 | I39: 0 | J39: =ROUND(SUM(E39:I39),0) -> 0
A40: Publication Costs | E40: 0 | F40: 0 | G40: 0 | H40: 0 | I40: 0 | J40: =ROUND(SUM(E40:I40),0) -> 0
A41: Equipment or Facility User/Rental Fees | E41: 0 | F41: 0 | G41: 0 | H41: 0 | I41: 0 | J41: =ROUND(SUM(E41:I41),0) -> 0
A42: Consultant Services | E42: 0 | F42: 0 | G42: 0 | H42: 0 | I42: 0 | J42: =ROUND(SUM(E42:I42),0) -> 0
A43: Tuition Remission | E43: 0 | F43: 0 | G43: 0 | H43: 0 | I43: 0 | J43: =ROUND(SUM(E43:I43),0) -> 0
A44: Other 1 | E44: 0 | F44: 0 | G44: 0 | H44: 0 | I44: 0 | J44: =ROUND(SUM(E44:I44),0) -> 0
A45: Other 2 | E45: 0 | F45: 0 | G45: 0 | H45: 0 | I45: 0 | J45: =ROUND(SUM(E45:I45),0) -> 0
A46: Other 3 | E46: 0 | F46: 0 | G46: 0 | H46: 0 | I46: 0 | J46: =ROUND(SUM(E46:I46),0) -> 0
A47: Subawardee 1 | B47: ='Subawardee Budgets'!B1 -> 1 | E47: ='Subawardee Budgets'!B5 -> 0 | F47: ='Subawardee Budgets'!C5 -> 0 | G47: ='Subawardee Budgets'!D5 -> 0 | H47: ='Subawardee Budgets'!E5 -> 0 | I47: ='Subawardee Budgets'!F5 -> 0 | J47: =ROUND(SUM(E47:I47),0) -> 0 | K47: Please enter subaward budgets in Subaward Budgets Tab
D48: Running total, subcontract only | E48: ='Subawardee Budgets'!B6 -> 0 | F48: ='Subawardee Budgets'!C6 -> 0 | G48: ='Subawardee Budgets'!D6 -> 0 | H48: ='Subawardee Budgets'!E6 -> 0 | I48: ='Subawardee Budgets'!F6 -> 0 | J48: =SUM(J47:J47) -> 0
A49: Subawardee 2 | B49: ='Subawardee Budgets'!B8 -> 2 | E49: ='Subawardee Budgets'!B12 -> 0 | F49: ='Subawardee Budgets'!C12 -> 0 | G49: ='Subawardee Budgets'!D12 -> 0 | H49: ='Subawardee Budgets'!E12 -> 0 | I49: ='Subawardee Budgets'!F12 -> 0 | J49: =ROUND(SUM(E49:I49),0) -> 0
D50: Running total, subcontract only | E50: ='Subawardee Budgets'!B13 -> 0 | F50: ='Subawardee Budgets'!C13 -> 0 | G50: ='Subawardee Budgets'!D13 -> 0 | H50: ='Subawardee Budgets'!E13 -> 0 | I50: ='Subawardee Budgets'!F13 -> 0 | J50: =SUM(I50:I50) -> 0
A51: Subawardee 3 | B51: ='Subawardee Budgets'!B15 -> 3 | E51: ='Subawardee Budgets'!B19 -> 0 | F51: ='Subawardee Budgets'!C19 -> 0 | G51: ='Subawardee Budgets'!D19 -> 0 | H51: ='Subawardee Budgets'!E19 -> 0 | I51: ='Subawardee Budgets'!F19 -> 0 | J51: =ROUND(SUM(E51:I51),0) -> 0
D52: Running total, subcontract only | E52: ='Subawardee Budgets'!B20 -> 0 | F52: ='Subawardee Budgets'!C20 -> 0 | G52: ='Subawardee Budgets'!D20 -> 0 | H52: ='Subawardee Budgets'!E20 -> 0 | I52: ='Subawardee Budgets'!F20 -> 0 | J52: =SUM(I52:I52) -> 0
A53: Subawardee 4 | B53: ='Subawardee Budgets'!B22 -> 4 | E53: ='Subawardee Budgets'!B26 -> 0 | F53: ='Subawardee Budgets'!C26 -> 0 | G53: ='Subawardee Budgets'!D26 -> 0 | H53: ='Subawardee Budgets'!E26 -> 0 | I53: ='Subawardee Budgets'!F26 -> 0 | J53: =ROUND(SUM(E53:I53),0) -> 0
D54: Running total, subcontract only | E54: ='Subawardee Budgets'!B27 -> 0 | F54: ='Subawardee Budgets'!C27 -> 0 | G54: ='Subawardee Budgets'!D27 -> 0 | H54: ='Subawardee Budgets'!E27 -> 0 | I54: ='Subawardee Budgets'!F27 -> 0 | J54: =SUM(I54:I54) -> 0
A55: Subawardee 5 | B55: ='Subawardee Budgets'!B29 -> 5 | E55: ='Subawardee Budgets'!B33 -> 0 | F55: ='Subawardee Budgets'!C33 -> 0 | G55: ='Subawardee Budgets'!D33 -> 0 | H55: ='Subawardee Budgets'!E33 -> 0 | I55: ='Subawardee Budgets'!F33 -> 0 | J55: =ROUND(SUM(E55:I55),0) -> 0
D56: Running total, subcontract only | E56: ='Subawardee Budgets'!B34 -> 0 | F56: ='Subawardee Budgets'!C34 -> 0 | G56: ='Subawardee Budgets'!D34 -> 0 | H56: ='Subawardee Budgets'!E34 -> 0 | I56: ='Subawardee Budgets'!F34 -> 0 | J56: =SUM(I56:I56) -> 0
A57: Subawardee 6 | B57: ='Subawardee Budgets'!B36 -> 6 | E57: ='Subawardee Budgets'!B40 -> 0 | F57: ='Subawardee Budgets'!C40 -> 0 | G57: ='Subawardee Budgets'!D40 -> 0 | H57: ='Subawardee Budgets'!E40 -> 0 | I57: ='Subawardee Budgets'!F40 -> 0 | J57: =ROUND(SUM(E57:I57),0) -> 0
D58: Running total, subcontract only | E58: ='Subawardee Budgets'!B41 -> 0 | F58: ='Subawardee Budgets'!C41 -> 0 | G58: ='Subawardee Budgets'!D41 -> 0 | H58: ='Subawardee Budgets'!E41 -> 0 | I58: ='Subawardee Budgets'!F41 -> 0 | J58: =SUM(I58:I58) -> 0
A59: Total Direct Costs requested | E59: =ROUND(SUM(E34:E46)+E47+E49+E51+E53+E55+E57,0) -> 0 | F59: =ROUND(SUM(F34:F46)+F47+F49+F51+F53+F55+F57,0) -> 0 | G59: =ROUND(SUM(G34:G46)+G47+G49+G51+G53+G55+G57,0) -> 0 | H59: =ROUND(SUM(H34:H46)+H47+H49+H51+H53+H55+H57,0) -> 0 | I59: =ROUND(SUM(I34:I46)+I47+I49+I51+I53+I55+I57,0) -> 0 | J59: =ROUND(SUM(E59:I59),0) -> 0
A60: Less Subaward Costs | E60: =E59-SUM(E47,E49,E51,E53,E55,E57) -> 0 | F60: =F59-SUM(F47,F49,F51,F53,F55,F57) -> 0 | G60: =G59-SUM(G47,G49,G51,G53,G55,G57) -> 0 | H60: =H59-SUM(H47,H49,H51,H53,H55,H57) -> 0 | I60: =I59-SUM(I47,I49,I51,I53,I55,I57) -> 0 | J60: =ROUND(SUM(E60:I60),0) -> 0
A61: Indirect Costs using Total Direct Costs | C61: 0.4285 | D61: TDC | E61: =ROUND($C$61*E60,0) -> 0 | F61: =ROUND($C$61*F60,0) -> 0 | G61: =ROUND($C$61*G60,0) -> 0 | H61: =ROUND($C$61*H60,0) -> 0 | I61: =ROUND($C$61*I60,0) -> 0 | J61: =ROUND(SUM(E61:I61),0) -> 0
A62: Total Budget Using Total Direct Costs | E62: =ROUND(E61+E59,0) -> 0 | F62: =ROUND(F61+F59,0) -> 0 | G62: =ROUND(G61+G59,0) -> 0 | H62: =ROUND(H61+H59,0) -> 0 | I62: =ROUND(I61+I59,0) -> 0 | J62: =ROUND(SUM(E62:I62),0) -> 0
A63: Total Direct Costs requested | E63: =ROUND(SUM(E34:E46)+E47+E49+E51+E53+E55+E57,0) -> 0 | F63: =ROUND(SUM(F34:F46)+F47+F49+F51+F53+F55+F57,0) -> 0 | G63: =ROUND(SUM(G34:G46)+G47+G49+G51+G53+G55+G57,0) -> 0 | H63: =ROUND(SUM(H34:H46)+H47+H49+H51+H53+H55+H57,0) -> 0 | I63: =ROUND(SUM(I34:I46)+I47+I49+I51+I53+I55+I57,0) -> 0 | J63: =ROUND(SUM(E63:I63),0) -> 0
A64: MTDC Base | E64: =IF($D$65="MTDC",E59-E36-E43-E35-IF(E48>25000,E48-25000,0)-IF(E50>25000,E50-25000,0)-IF(E52>25000,E52-25000,0)-IF(E54>25000,E54-25000,0)-IF(E56>25000,E56-25000,0)-IF(E58>25000,E58-25000,0)) -> 0 | F64: =IF($D$65="MTDC",F59-F36-F43-F35-(IF(E52>25000,F51,(IF(F52>25000,F52-25000,0))))-(IF(E48>25000,F47,(IF(F48>25000,F48-25000,0))))-(IF(E50>25000,F49,(IF(F50>25000,F50-25000,0))))-(IF(E54>25000,F53,(IF(F54>25000,F54-25000,0))))-(IF(E56>25000,F55,(IF(F56>25000,F56-25000,0))))-(IF(E58>25000,F57,(IF(F58>25000,F58-25000,0))))) -> 0 | G64: =IF($D$65="MTDC",G59-G36-G43-G35-(IF(F52>25000,G51,(IF(G52>25000,G52-25000,0))))-(IF(F48>25000,G47,(IF(G48>25000,G48-25000,0))))-(IF(F50>25000,G49,(IF(G50>25000,G50-25000,0))))-(IF(F54>25000,G53,(IF(G54>25000,G54-25000,0))))-(IF(F56>25000,G55,(IF(G56>25000,G56-25000,0))))-(IF(F58>25000,G57,(IF(G58>25000,G58-25000,0))))) -> 0 | H64: =IF($D$65="MTDC",H59-H36-H43-H35-(IF(G52>25000,H51,(IF(H52>25000,H52-25000,0))))-(IF(G48>25000,H47,(IF(H48>25000,H48-25000,0))))-(IF(G50>25000,H49,(IF(H50>25000,H50-25000,0))))-(IF(G54>25000,H53,(IF(H54>25000,H54-25000,0))))-(IF(G56>25000,H55,(IF(H56>25000,H56-25000,0))))-(IF(G58>25000,H57,(IF(H58>25000,H58-25000,0))))) -> 0 | I64: =IF($D$65="MTDC",I59-I36-I43-I35-(IF(H52>25000,I51,(IF(I52>25000,I52-25000,0))))-(IF(H48>25000,I47,(IF(I48>25000,I48-25000,0))))-(IF(H50>25000,I49,(IF(I50>25000,I50-25000,0))))-(IF(H54>25000,I53,(IF(I54>25000,I54-25000,0))))-(IF(H56>25000,I55,(IF(I56>25000,I56-25000,0))))-(IF(H58>25000,I57,(IF(I58>25000,I58-25000,0))))) -> 0 | J64: =ROUND(SUM(E64:I64),0) -> 0
A65: Indirect Costs using Modified Total Direct Costs | C65: 0.555 | D65: MTDC | E65: =ROUND($C$65*E64,0) -> 0 | F65: =ROUND($C$65*F64,0) -> 0 | G65: =ROUND($C$65*G64,0) -> 0 | H65: =ROUND($C$65*H64,0) -> 0 | I65: =ROUND($C$65*I64,0) -> 0 | J65: =ROUND(SUM(E65:I65),0) -> 0
A66: Total Budget Using Modified Total Direct Costs | E66: =ROUND(SUM(E63,E65),0) -> 0 | F66: =ROUND(SUM(F63,F65),0) -> 0 | G66: =ROUND(SUM(G63,G65),0) -> 0 | H66: =ROUND(SUM(H63,H65),0) -> 0 | I66: =ROUND(SUM(I63,I65),0) -> 0 | J66: =ROUND(SUM(E66:I66),0) -> 0
A69: Voluntary Cost Share Variables | B69: sal Infl | C69: 0 | D69: FB Infl | E69: 0
A70: Cost Share budget
A71: Salary | E71: YEAR One | F71: YEAR Two | G71: YEAR Three | J71: Total
A72: Personnel Name and Role | C72: salary | D72: % effort
A73: PI | E73: =ROUND($C73*$D73,0) -> 0 | F73: =ROUND(($C73*($C$1+1)^1)*$D73,0) -> 0 | G73: =ROUND(($C73*($C$1+1)^2)*$D73,0) -> 0 | H73: =ROUND(($C73*($C$1+1)^3)*$D73,0) -> 0 | I73: =ROUND(($C73*($C$1+1)^4)*$D73,0) -> 0 | J73: =ROUND(SUM(E73:I73),0) -> 0
A74: Fringe benefits | B74: 0.353 | E74: =ROUND($E73*$B74,0) -> 0 | F74: =ROUND($F73*($B74+($E$1)),0) -> 0 | G74: =ROUND($G73*($B74+($E$1+$E$1)),0) -> 0 | H74: =ROUND($H73*($B74+($E$1+$E$1+$E$1)),0) -> 0 | I74: =ROUND($I73*($B74+($E$1+$E$1+$E$1+$E$1)),0) -> 0 | J74: =ROUND(SUM(E74:I74),0) -> 0
A75: Personnel | E75: =ROUND($C75*$D75,0) -> 0 | F75: =ROUND(($C75*($C$1+1)^1)*$D75,0) -> 0 | G75: =ROUND(($C75*($C$1+1)^2)*$D75,0) -> 0 | H75: =ROUND(($C75*($C$1+1)^3)*$D75,0) -> 0 | I75: =ROUND(($C75*($C$1+1)^4)*$D75,0) -> 0 | J75: =ROUND(SUM(E75:I75),0) -> 0
A76: Fringe benefits | B76: 0.353 | E76: =ROUND($E75*$B76,0) -> 0 | F76: =ROUND($F75*($B76+($E$1)),0) -> 0 | G76: =ROUND($G75*($B76+($E$1+$E$1)),0) -> 0 | H76: =ROUND($H75*($B76+($E$1+$E$1+$E$1)),0) -> 0 | I76: =ROUND($I75*($B76+($E$1+$E$1+$E$1+$E$1)),0) -> 0 | J76: =ROUND(SUM(E76:I76),0) -> 0
A77: Personnel | E77: =ROUND($C77*$D77,0) -> 0 | F77: =ROUND(($C77*($C$1+1)^1)*$D77,0) -> 0 | G77: =ROUND(($C77*($C$1+1)^2)*$D77,0) -> 0 | H77: =ROUND(($C77*($C$1+1)^3)*$D77,0) -> 0 | I77: =ROUND(($C77*($C$1+1)^4)*$D77,0) -> 0 | J77: =ROUND(SUM(E77:I77),0) -> 0
A78: Fringe benefits | B78: 0.353 | E78: =ROUND($E77*$B78,0) -> 0 | F78: =ROUND($F77*($B78+($E$1)),0) -> 0 | G78: =ROUND($G77*($B78+($E$1+$E$1)),0) -> 0 | H78: =ROUND($H77*($B78+($E$1+$E$1+$E$1)),0) -> 0 | I78: =ROUND($I77*($B78+($E$1+$E$1+$E$1+$E$1)),0) -> 0 | J78: =ROUND(SUM(E78:I78),0) -> 0
A79: Total Direct Costs - Cost Share | E79: =SUM(E73:E78) -> 0 | F79: =SUM(F73:F78) -> 0 | G79: =SUM(G73:G78) -> 0 | J79: =SUM(J73:J78) -> 0
A80: Indirect Costs on Cost Share Budget | C80: 0 | D80: MTDC | E80: =ROUND(E79*$C$80,0) -> 0 | F80: =ROUND(F79*$C$80,0) -> 0 | G80: =ROUND(G79*$C$80,0) -> 0 | J80: =SUM(E80:G80) -> 0
A81: Total Cost Share Budget | E81: =SUM(E79:E80) -> 0 | F81: =SUM(F79:F80) -> 0 | G81: =SUM(G79:G80) -> 0 | J81: =SUM(J79:J80) -> 0
A84: 30% TFFA Check
A85: UW Indirect Costs using 42.85% TDC | E85: =E61 -> 0 | F85: =F61 -> 0 | G85: =G61 -> 0 | H85: =H61 -> 0 | I85: =I61 -> 0 | J85: =J61 -> 0
A86: UW Direct Costs using 55.5% MTDC | E86: =E65 -> 0 | F86: =F65 -> 0 | G86: =G65 -> 0 | H86: =H65 -> 0 | I86: =I65 -> 0 | J86: =J65 -> 0
A87: Total Subaward Indirect Costs | E87: ='Subawardee Budgets'!B43 -> 0 | F87: ='Subawardee Budgets'!C43 -> 0 | G87: ='Subawardee Budgets'!D43 -> 0 | H87: ='Subawardee Budgets'!E43 -> 0 | I87: ='Subawardee Budgets'!F43 -> 0 | J87: ='Subawardee Budgets'!G43 -> 0
A88: % TFFA using TDC | E88: =SUM(E85,E87)/E62 -> #DIV/0! | F88: =SUM(F85,F87)/F62 -> #DIV/0! | G88: =SUM(G85,G87)/G62 -> #DIV/0! | H88: =SUM(H85,H87)/H62 -> #DIV/0! | I88: =SUM(I85,I87)/I62 -> #DIV/0! | J88: =SUM(J85,J87)/J62 -> #DIV/0!
A89: % TFFA using MTDC | E89: =SUM(E86:E87)/E66 -> #DIV/0! | F89: =SUM(F86:F87)/F66 -> #DIV/0! | G89: =SUM(G86:G87)/G66 -> #DIV/0! | H89: =SUM(H86:H87)/H66 -> #DIV/0! | I89: =SUM(I86:I87)/I66 -> #DIV/0! | J89: =SUM(J86:J87)/J66 -> #DIV/0!

Sheet Subawardee Budgets
A1: Subawardee: | B1: 1 | H1: %TFFA
B2: yr1 | C2: yr2 | D2: yr3 | E2: yr4 | F2: yr5 | G2: total
A3: Direct Costs | B3: 0 | C3: 0 | D3: 0 | E3: 0 | F3: 0 | G3: =SUM(B3:F3) -> 0
A4: Indirect Costs | B4: 0 | C4: 0 | D4: 0 | E4: 0 | F4: 0 | G4: =SUM(B4:F4) -> 0
A5: Total Costs | B5: =SUM(B3:B4) -> 0 | C5: =SUM(C3:C4) -> 0 | D5: =SUM(D3:D4) -> 0 | E5: =SUM(E3:E4) -> 0 | F5: =SUM(F3:F4) -> 0 | G5: =SUM(G3:G4) -> 0
A6: Running total | B6: =SUM(B5) -> 0 | C6: =SUM(B5:C5) -> 0 | D6: =SUM(B5:D5) -> 0 | E6: =SUM(B5:E5) -> 0 | F6: =SUM(B5:F5) -> 0 | G6: =SUM(G5) -> 0 | H6: =G4/G6 -> #DIV/0!
A8: Subawardee: | B8: 2
B9: yr1 | C9: yr2 | D9: yr3 | E9: yr4 | F9: yr5 | G9: total
A10: Direct Costs | B10: 0 | C10: 0 | D10: 0 | E10: 0 | F10: 0 | G10: =SUM(B10:F10) -> 0
A11: Indirect Costs | B11: 0 | C11: 0 | D11: 0 | E11: 0 | F11: 0 | G11: =SUM(B11:F11) -> 0
A12: Total Costs | B12: =SUM(B10:B11) -> 0 | C12: =SUM(C10:C11) -> 0 | D12: =SUM(D10:D11) -> 0 | E12: =SUM(E10:E11) -> 0 | F12: =SUM(F10:F11) -> 0 | G12: =SUM(B12:F12) -> 0
A13: Running total | B13: =SUM(B12) -> 0 | C13: =SUM(B12:C12) -> 0 | D13: =SUM(B12:D12) -> 0 | E13: =SUM(B12:E12) -> 0 | F13: =SUM(B12:F12) -> 0 | G13: =SUM(G12) -> 0 | H13: =G11/G13 -> #DIV/0!
A15: Subawardee: | B15: 3
B16: yr1 | C16: yr2 | D16: yr3 | E16: yr4 | F16: yr5 | G16: total
A17: Direct Costs | B17: 0 | C17: 0 | D17: 0 | E17: 0 | F17: 0 | G17: =SUM(B17:F17) -> 0
A18: Indirect Costs | B18: 0 | C18: 0 | D18: 0 | E18: 0 | F18: 0 | G18: =SUM(B18:F18) -> 0
A19: Total Costs | B19: =SUM(B17:B18) -> 0 | C19: =SUM(C17:C18) -> 0 | D19: =SUM(D17:D18) -> 0 | E19: =SUM(E17:E18) -> 0 | F19: =SUM(F17:F18) -> 0 | G19: =SUM(B19:F19) -> 0
A20: Running total | B20: =SUM(B19) -> 0 | C20: =SUM(B19:C19) -> 0 | D20: =SUM(B19:D19) -> 0 | E20: =SUM(B19:E19) -> 0 | F20: =SUM(B19:F19) -> 0 | G20: =SUM(G19) -> 0 | H20: =G18/G20 -> #DIV/0!
A22: Subawardee: | B22: 4
B23: yr1 | C23: yr2 | D23: yr3 | E23: yr4 | F23: yr5 | G23: total
A24: Direct Costs | B24: 0 | C24: 0 | D24: 0 | E24: 0 | F24: 0 | G24: =SUM(B24:F24) -> 0
A25: Indirect Costs | B25: 0 | C25: 0 | D25: 0 | E25: 0 | F25: 0 | G25: =SUM(B25:F25) -> 0
A26: Total Costs | B26: =SUM(B24:B25) -> 0 | C26: =SUM(C24:C25) -> 0 | D26: =SUM(D24:D25) -> 0 | E26: =SUM(E24:E25) -> 0 | F26: =SUM(F24:F25) -> 0 | G26: =SUM(B26:F26) -> 0
A27: Running total | B27: =SUM(B26) -> 0 | C27: =SUM(B26:C26) -> 0 | D27: =SUM(B26:D26) -> 0 | E27: =SUM(B26:E26) -> 0 | F27: =SUM(B26:F26) -> 0 | G27: =SUM(G26) -> 0 | H27: =G25/G27 -> #DIV/0!
A29: Subawardee: | B29: 5
B30: yr1 | C30: yr2 | D30: yr3 | E30: yr4 | F30: yr5 | G30: total
A31: Direct Costs | B31: 0 | C31: 0 | D31: 0 | E31: 0 | F31: 0 | G31: =SUM(B31:F31) -> 0
A32: Indirect Costs | B32: 0 | C32: 0 | D32: 0 | E32: 0 | F32: 0 | G32: =SUM(B32:F32) -> 0
A33: Total Costs | B33: =SUM(B31:B32) -> 0 | C33: =SUM(C31:C32) -> 0 | D33: =SUM(D31:D32) -> 0 | E33: =SUM(E31:E32) -> 0 | F33: =SUM(F31:F32) -> 0 | G33: =SUM(B33:F33) -> 0
A34: Running total | B34: =SUM(B33) -> 0 | C34: =SUM(B33:C33) -> 0 | D34: =SUM(B33:D33) -> 0 | E34: =SUM(B33:E33) -> 0 | F34: =SUM(B33:F33) -> 0 | G34: =SUM(G33) -> 0 | H34: =G32/G34 -> #DIV/0!
A36: Subawardee: | B36: 6
B37: yr1 | C37: yr2 | D37: yr3 | E37: yr4 | F37: yr5 | G37: total
A38: Direct Costs | B38: 0 | C38: 0 | D38: 0 | E38: 0 | F38: 0 | G38: =SUM(B38:F38) -> 0
A39: Indirect Costs | B39: 0 | C39: 0 | D39: 0 | E39: 0 | F39: 0 | G39: =SUM(B39:F39) -> 0
A40: Total Costs | B40: =SUM(B38:B39) -> 0 | C40: =SUM(C38:C39) -> 0 | D40: =SUM(D38:D39) -> 0 | E40: =SUM(E38:E39) -> 0 | F40: =SUM(F38:F39) -> 0 | G40: =SUM(B40:F40) -> 0
A41: Running total | B41: =SUM(B40) -> 0 | C41: =SUM(B40:C40) -> 0 | D41: =SUM(B40:D40) -> 0 | E41: =SUM(B40:E40) -> 0 | F41: =SUM(B40:F40) -> 0 | G41: =SUM(G40) -> 0 | H41: =G39/G41 -> #DIV/0!
A43: Total IDCs | B43: =SUM(B4,B11,B18,B25,B32,B39) -> 0 | C43: =SUM(C4,C11,C18,C25,C32,C39) -> 0 | D43: =SUM(D4,D11,D18,D25,D32,D39) -> 0 | E43: =SUM(E4,E11,E18,E25,E32,E39) -> 0 | F43: =SUM(F4,F11,F18,F25,F32,F39) -> 0 | G43: =SUM(B43:F43) -> 0

Sheet Participant Support Costs
A1: Participant Support Costs
B2: Year 1 | C2: Year 2 | D2: Year 3 | E2: Year 4 | F2: Year 5 | G2: Total
A3: Tuition/Fees/Health Insurance | B3: 0 | C3: 0 | D3: 0 | E3: 0 | F3: 0 | G3: =ROUND(SUM(B3:F3),0) -> 0
A4: Stipends | B4: 0 | C4: 0 | D4: 0 | E4: 0 | F4: 0 | G4: =ROUND(SUM(B4:F4),0) -> 0
A5: Travel | B5: 0 | C5: 0 | D5: 0 | E5: 0 | F5: 0 | G5: =ROUND(SUM(B5:F5),0) -> 0
A6: Subsistance | B6: 0 | C6: 0 | D6: 0 | E6: 0 | F6: 0 | G6: =ROUND(SUM(B6:F6),0) -> 0
A7: Other | B7: 0 | C7: 0 | D7: 0 | E7: 0 | F7: 0 | G7: =ROUND(SUM(B7:F7),0) -> 0
A8: Total | B8: =SUM(B3:B7) -> 0 | C8: =SUM(C3:C7) -> 0 | D8: =SUM(D3:D7) -> 0 | E8: =SUM(E3:E7) -> 0 | F8: =SUM(F3:F7) -> 0 | G8: =SUM(G3:G7) -> 0

Sheet GradStudentMinStipends
A1: Fiscal Year | B1: FY Start Date | C1: Minimum Stipend
A2: FY26 | B2: 45839 | C2: 35636
A3: FY27 | B3: 46204 | C3: 37417
A4: FY28 | B4: 46569 | C4: 39288
A5: **In future years, CALS suggest 2-3% increases per year
