Workbook

Sheet UW Budget
A1: Variables | B1: sal Infl | C1: 0 | D1: FB Infl | E1: 0
A2: Project Budget
A3: Requested | C3: salary | D3: % effort | E3: YEAR One | F3: YEAR Two | G3: YEAR Three | H3: YEAR Four | I3: YEAR Five | J3: Total
A4: Key Personnel
A5: PI | C5: 0 | D5: 0 | E5: =ROUND($C5*$D5,0) -> 0 | F5: =ROUND(($C5*($C$1+1)^1)*$D5,0) -> 0 | G5: =ROUND(($C5*($C$1+1)^2)*$D5,0) -> 0 | H5: =ROUND(($C5*($C$1+1)^3)*$D5,0) -> 0 | I5: =ROUND(($C5*($C$1+1)^4)*$D5,0) -> 0 | J5: =ROUND(SUM(E5:I5),0) -> 0
A6: Fringe benefits | B6: 0.353 | E6: =ROUND($E5*$B6,0) -> 0 | F6: =ROUND($F5*($B6+($E$1)),0) -> 0 | G6: =ROUND($G5*($B6+($E$1+$E$1)),0) -> 0 | H6: =ROUND($H5*($B6+($E$1+$E$1+$E$1)),0) -> 0 | I6: =ROUND($I5*($B6+($E$1+$E$1+$E$1+$E$1)),0) -> 0 | J6: =ROUND(SUM(E6:I6),0) -> 0
A7: Key Personnel | C7: 0 | D7: 0 | E7: =ROUND($C7*$D7,0) -> 0 | F7: =ROUND(($C7*($C$1+1)^1)*$D7,0) -> 0 | G7: =ROUND(($C7*($C$1+1)^2)*$D7,0) -> 0 | H7: =ROUND(($C7*($C$1+1)^3)*$D7,0) -> 0 | I7: =ROUND(($C7*($C$1+1)^4)*$D7,0) -> 0 | J7: =ROUND(SUM(E7:I7),0) -> 0
A8: Fringe benefits | B8: 0.353 | E8: =ROUND($E7*$B8,0) -> 0 | F8: =ROUND($F7*($B8+($E$1)),0) -> 0 | G8: =ROUND($G7*($B8+($E$1+$E$1)),0) -> 0 | H8: =ROUND($H7*($B8+($E$1+$E$1+$E$1)),0) -> 0 | I8: =ROUND($I7*($B8+($E$1+$E$1+$E$1+$E$1)),0) -> 0 | J8: =ROUND(SUM(E8:I8),0) -> 0
A9: Key Personnel | C9: 0 | D9: 0 | E9: =ROUND($C9*$D9,0) -> 0 | F9: =ROUND(($C9*($C$1+1)^1)*$D9,0) -> 0 | G9: =ROUND(($C9*($C$1+1)^2)*$D9,0) -> 0 | H9: =ROUND(($C9*($C$1+1)^3)*$D9,0) -> 0 | I9: =ROUND(($C9*($C$1+1)^4)*$D9,0) -> 0 | J9: =ROUND(SUM(E9:I9),0) -> 0
A10: Fringe benefits | B10: 0.353 | E10: =ROUND($E9*$B10,0) -> 0 | F10: =ROUND($F9*($B10+($E$1)),0) -> 0 | G10: =ROUND($G9*($B10+($E$1+$E$1)),0) -> 0 | H10: =ROUND($H9*($B10+($E$1+$E$1+$E$1)),0) -> 0 | I10: =ROUND($I9*($B10+($E$1+$E$1+$E$1+$E$1)),0) -> 0 | J10: =ROUND(SUM(E10:I10),0) -> 0
A11: Key Personnel | C11: 0 | D11: 0 | E11: =ROUND($C11*$D11,0) -> 0 | F11: =ROUND(($C11*($C$1+1)^1)*$D11,0) -> 0 | G11: =ROUND(($C11*($C$1+1)^2)*$D11,0) -> 0 | H11: =ROUND(($C11*($C$1+1)^3)*$D11,0) -> 0 | I11: =ROUND(($C11*($C$1+1)^4)*$D11,0) -> 0 | J11: =ROUND(SUM(E11:I11),0) -> 0
A12: Fringe benefits | B12: 0.353 | E12: =ROUND($E11*$B12,0) -> 0 | F12: =ROUND($F11*($B12+($E$1)),0) -> 0 | G12: =ROUND($G11*($B12+($E$1+$E$1)),0) -> 0 | H12: =ROUND($H11*($B12+($E$1+$E$1+$E$1)),0) -> 0 | I12: =ROUND($I11*($B12+($E$1+$E$1+$E$1+$E$1)),0) -> 0 | J12: =ROUND(SUM(E12:I12),0) -> 0
A13: Other Personnel
A14: Academic Staff | C14: 0 | D14: 0 | E14: =ROUND($C14*$D14,0) -> 0 | F14: =ROUND(($C14*($C$1+1)^1)*$D14,0) -> 0 | G14: =ROUND(($C14*($C$1+1)^2)*$D14,0) -> 0 | H14: =ROUND(($C14*($C$1+1)^3)*$D14,0) -> 0 | I14: =ROUND(($C14*($C$1+1)^4)*$D14,0) -> 0 | J14: =ROUND(SUM(E14:I14),0) -> 0
A15: Fringe benefits | B15: 0.353 | E15: =ROUND($E14*$B15,0) -> 0 | F15: =ROUND($F14*($B15+($E$1)),0) -> 0 | G15: =ROUND($G14*($B15+($E$1+$E$1)),0) -> 0 | H15: =ROUND($H14*($B15+($E$1+$E$1+$E$1)),0) -> 0 | I15: =ROUND($I14*($B15+($E$1+$E$1+$E$1+$E$1)),0) -> 0 | J15: =ROUND(SUM(E15:I15),0) -> 0
A16: Academic Staff | C16: 0 | D16: 0 | E16: =ROUND($C16*$D16,0) -> 0 | F16: =ROUND(($C16*($C$1+1)^1)*$D16,0) -> 0 | G16: =ROUND(($C16*($C$1+1)^2)*$D16,0) -> 0 | H16: =ROUND(($C16*($C$1+1)^3)*$D16,0) -> 0 | I16: =ROUND(($C16*($C$1+1)^4)*$D16,0) -> 0 | J16: =ROUND(SUM(E16:I16),0) -> 0
A17: Fringe benefits | B17: 0.353 | E17: =ROUND($E16*$B17,0) -> 0 | F17: =ROUND($F16*($B17+($E$1)),0) -> 0 | G17: =ROUND($G16*($B17+($E$1+$E$1)),0) -> 0 | H17: =ROUND($H16*($B17+($E$1+$E$1+$E$1)),0) -> 0 | I17: =ROUND($I16*($B17+($E$1+$E$1+$E$1+$E$1)),0) -> 0 | J17: =ROUND(SUM(E17:I17),0) -> 0
A18: Academic Staff | C18: 0 | D18: 0 | E18: =ROUND($C18*$D18,0) -> 0 | F18: =ROUND(($C18*($C$1+1)^1)*$D18,0) -> 0 | G18: =ROUND(($C18*($C$1+1)^2)*$D18,0) -> 0 | H18: =ROUND(($C18*($C$1+1)^3)*$D18,0) -> 0 | I18: =ROUND(($C18*($C$1+1)^4)*$D18,0) -> 0 | J18: =ROUND(SUM(E18:I18),0) -> 0
A19: Fringe benefits | B19: 0.353 | E19: =ROUND($E18*$B19,0) -> 0 | F19: =ROUND($F18*($B19+($E$1)),0) -> 0 | G19: =ROUND($G18*($B19+($E$1+$E$1)),0) -> 0 | H19: =ROUND($H18*($B19+($E$1+$E$1+$E$1)),0) -> 0 | I19: =ROUND($I18*($B19+($E$1+$E$1+$E$1+$E$1)),0) -> 0 | J19: =ROUND(SUM(E19:I19),0) -> 0
A20: Academic Staff | C20: 0 | D20: 0 | E20: =ROUND($C20*$D20,0) -> 0 | F20: =ROUND(($C20*($C$1+1)^1)*$D20,0) -> 0 | G20: =ROUND(($C20*($C$1+1)^2)*$D20,0) -> 0 | H20: =ROUND(($C20*($C$1+1)^3)*$D20,0) -> 0 | I20: =ROUND(($C20*($C$1+1)^4)*$D20,0) -> 0 | J20: =ROUND(SUM(E20:I20),0) -> 0
A21: Fringe benefits | B21: 0.353 | E21: =ROUND($E20*$B21,0) -> 0 | F21: =ROUND($F20*($B21+($E$1)),0) -> 0 | G21: =ROUND($G20*($B21+($E$1+$E$1)),0) -> 0 | H21: =ROUND($H20*($B21+($E$1+$E$1+$E$1)),0) -> 0 | I21: =ROUND($I20*($B21+($E$1+$E$1+$E$1+$E$1)),0) -> 0 | J21: =ROUND(SUM(E21:I21),0) -> 0
A22: Grad Student Research Assistant | C22: 0 | D22: 0 | E22: =ROUND($C22*$D22,0) -> 0 | F22: =ROUND(($C22*($C$1+1)^1)*$D22,0) -> 0 | G22: =ROUND(($C22*($C$1+1)^2)*$D22,0) -> 0 | H22: =ROUND(($C22*($C$1+1)^3)*$D22,0) -> 0 | I22: =ROUND(($C22*($C$1+1)^4)*$D22,0) -> 0 | J22: =ROUND(SUM(E22:I22),0) -> 0
A23: Fringe benefits | B23: 0.215 | E23: =ROUND($E22*$B23,0) -> 0 | F23: =ROUND($F22*($B23+($E$1)),0) -> 0 | G23: =ROUND($G22*($B23+($E$1+$E$1)),0) -> 0 | H23: =ROUND($H22*($B23+($E$1+$E$1+$E$1)),0) -> 0 | I23: =ROUND($I22*($B23+($E$1+$E$1+$E$1+$E$1)),0) -> 0 | J23: =ROUND(SUM(E23:I23),0) -> 0
A24: Grad Student Research Assistant | C24: 0 | D24: 0 | E24: =ROUND($C24*$D24,0) -> 0 | F24: =ROUND(($C24*($C$1+1)^1)*$D24,0) -> 0 | G24: =ROUND(($C24*($C$1+1)^2)*$D24,0) -> 0 | H24: =ROUND(($C24*($C$1+1)^3)*$D24,0) -> 0 | I24: =ROUND(($C24*($C$1+1)^4)*$D24,0) -> 0 | J24: =ROUND(SUM(E24:I24),0) -> 0
A25: Fringe benefits | B25: 0.215 | E25: =ROUND($E24*$B25,0) -> 0 | F25: =ROUND($F24*($B25+($E$1)),0) -> 0 | G25: =ROUND($G24*($B25+($E$1+$E$1)),0) -> 0 | H25: =ROUND($H24*($B25+($E$1+$E$1+$E$1)),0) -> 0 | I25: =ROUND($I24*($B25+($E$1+$E$1+$E$1+$E$1)),0) -> 0 | J25: =ROUND(SUM(E25:I25),0) -> 0
A26: Postdoctoral Research Associate | C26: 0 | D26: 0 | E26: =ROUND($C26*$D26,0) -> 0 | F26: =ROUND(($C26*($C$1+1)^1)*$D26,0) -> 0 | G26: =ROUND(($C26*($C$1+1)^2)*$D26,0) -> 0 | H26: =ROUND(($C26*($C$1+1)^3)*$D26,0) -> 0 | I26: =ROUND(($C26*($C$1+1)^4)*$D26,0) -> 0 | J26: =ROUND(SUM(E26:I26),0) -> 0
A27: Fringe benefits | B27: 0.199 | E27: =ROUND($E26*$B27,0) -> 0 | F27: =ROUND($F26*($B27+($E$1)),0) -> 0 | G27: =ROUND($G26*($B27+($E$1+$E$1)),0) -> 0 | H27: =ROUND($H26*($B27+($E$1+$E$1+$E$1)),0) -> 0 | I27: =ROUND($I26*($B27+($E$1+$E$1+$E$1+$E$1)),0) -> 0 | J27: =ROUND(SUM(E27:I27),0) -> 0
A28: Postdoctoral Research Associate | C28: 0 | D28: 0 | E28: =ROUND($C28*$D28,0) -> 0 | F28: =ROUND(($C28*($C$1+1)^1)*$D28,0) -> 0 | G28: =ROUND(($C28*($C$1+1)^2)*$D28,0) -> 0 | H28: =ROUND(($C28*($C$1+1)^3)*$D28,0) -> 0 | I28: =ROUND(($C28*($C$1+1)^4)*$D28,0) -> 0 | J28: =ROUND(SUM(E28:I28),0) -> 0
A29: Fringe benefits | B29: 0.199 | E29: =ROUND($E28*$B29,0) -> 0 | F29: =ROUND($F28*($B29+($E$1)),0) -> 0 | G29: =ROUND($G28*($B29+($E$1+$E$1)),0) -> 0 | H29: =ROUND($H28*($B29+($E$1+$E$1+$E$1)),0) -> 0 | I29: =ROUND($I28*($B29+($E$1+$E$1+$E$1+$E$1)),0) -> 0 | J29: =ROUND(SUM(E29:I29),0) -> 0
A30: Undergraduate Hourly | C30: 0 | D30: 0 | E30: =ROUND($C30*$D30,0) -> 0 | F30: =ROUND(($C30*($C$1+1)^1)*$D30,0) -> 0 | G30: =ROUND(($C30*($C$1+1)^2)*$D30,0) -> 0 | H30: =ROUND(($C30*($C$1+1)^3)*$D30,0) -> 0 | I30: =ROUND(($C30*($C$1+1)^4)*$D30,0) -> 0 | J30: =ROUND(SUM(E30:I30),0) -> 0
A31: Fringe benefits | B31: 0.042 | E31: =ROUND($E30*$B31,0) -> 0 | F31: =ROUND($F30*($B31+($E$1)),0) -> 0 | G31: =ROUND($G30*($B31+($E$1+$E$1)),0) -> 0 | H31: =ROUND($H30*($B31+($E$1+$E$1+$E$1)),0) -> 0 | I31: =ROUND($I30*($B31+($E$1+$E$1+$E$1+$E$1)),0) -> 0 | J31: =ROUND(SUM(E31:I31),0) -> 0
A32: Undergraduate Hourly | C32: 0 | D32: 0 | E32: =ROUND($C32*$D32,0) -> 0 | F32: =ROUND(($C32*($C$1+1)^1)*$D32,0) -> 0 | G32: =ROUND(($C32*($C$1+1)^2)*$D32,0) -> 0 | H32: =ROUND(($C32*($C$1+1)^3)*$D32,0) -> 0 | I32: =ROUND(($C32*($C$1+1)^4)*$D32,0) -> 0 | J32: =ROUND(SUM(E32:I32),0) -> 0
A33: Fringe benefits | B33: 0.042 | E33: =ROUND($E32*$B33,0) -> 0 | F33: =ROUND($F32*($B33+($E$1)),0) -> 0 | G33: =ROUND($G32*($B33+($E$1+$E$1)),0) -> 0 | H33: =ROUND($H32*($B33+($E$1+$E$1+$E$1)),0) -> 0 | I33: =ROUND($I32*($B33+($E$1+$E$1+$E$1+$E$1)),0) -> 0 | J33: =ROUND(SUM(E33:I33),0) -> 0
A34: Total Salary and Fringe Benefits (A+B) | E34: =ROUND(SUM(E5:E33),0) -> 0 | F34: =ROUND(SUM(F5:F33),0) -> 0 | G34: =ROUND(SUM(G5:G33),0) -> 0 | H34: =ROUND(SUM(H5:H33),0) -> 0 | I34: =ROUND(SUM(I5:I33),0) -> 0 | J34: =ROUND(SUM(E34:I34),0) -> 0
A35: Equipment | E35: 0 | F35: 0 | G35: 0 | H35: 0 | I35: 0 | J35: =ROUND(SUM(E35:I35),0) -> 0
A36: Participant Support Costs | E36: ='Participant Support Costs'!B8 -> 0 | F36: ='Participant Support Costs'!C8 -> 0 | G36: ='Participant Support Costs'!D8 -> 0 | H36: ='Participant Support Costs'!E8 -> 0 | I36: ='Participant Support Costs'!F8 -> 0 | J36: ='Participant Support Costs'!G8 -> 0 | K36: Please enter costs in Participant Support Costs Tab
A37: Domestic Travel | E37: 0 | F37: 0 | G37: 0 | H37: 0 | I37: 0 | J37: =ROUND(SUM(E37:I37),0) -> 0
A38: Foreign Travel | E38: 0 | F38: 0 | G38: 0 | H38: 0 | I38: 0 | J38: =ROUND(SUM(E38:I38),0) -> 0
A39: Materials & Supplies | E39: 0 | F39: 0 | G39: 0 | H39: 0 | I39: 0 | J39: =ROUND(SUM(E39:I39),0) -> 0
A40: Publication Costs | E40: 0 | F40: 0 | G40: 0 | H40: 0 | I40: 0 | J40: =ROUND(SUM(E40:I40),0) -> 0
...

Sheet Subawardee Budgets
A1: Subawardee: | B1: 1 | H1: %TFFA
B2: yr1 | C2: yr2 | D2: yr3 | E2: yr4 | F2: yr5 | G2: total
A3: Direct Costs | B3: 0 | C3: 0 | D3: 0 | E3: 0 | F3: 0 | G3: =SUM(B3:F3) -> 0
A4: Indirect Costs | B4: 0 | C4: 0 | D4: 0 | E4: 0 | F4: 0 | G4: =SUM(B4:F4) -> 0
A5: Total Costs | B5: =SUM(B3:B4) -> 0 | C5: =SUM(C3:C4) -> 0 | D5: =SUM(D3:D4) -> 0 | E5: =SUM(E3:E4) -> 0 | F5: =SUM(F3:F4) -> 0 | G5: =SUM(G3:G4) -> 0
A6: Running total | B6: =SUM(B5) -> 0 | C6: =SUM(B5:C5) -> 0 | D6: =SUM(B5:D5) -> 0 | E6: =SUM(B5:E5) -> 0 | F6: =SUM(B5:F5) -> 0 | G6: =SUM(G5) -> 0 | H6: =G4/G6 -> #DIV/0!
A8: Subawardee: | B8: 2
B9: yr1 | C9: yr2 | D9: yr3 | E9: yr4 | F9: yr5 | G9: total
A10: Direct Costs | B10: 0 | C10: 0 | D10: 0 | E10: 0 | F10: 0 | G10: =SUM(B10:F10) -> 0
A11: Indirect Costs | B11: 0 | C11: 0 | D11: 0 | E11: 0 | F11: 0 | G11: =SUM(B11:F11) -> 0
A12: Total Costs | B12: =SUM(B10:B11) -> 0 | C12: =SUM(C10:C11) -> 0 | D12: =SUM(D10:D11) -> 0 | E12: =SUM(E10:E11) -> 0 | F12: =SUM(F10:F11) -> 0 | G12: =SUM(B12:F12) -> 0
A13: Running total | B13: =SUM(B12) -> 0 | C13: =SUM(B12:C12) -> 0 | D13: =SUM(B12:D12) -> 0 | E13: =SUM(B12:E12) -> 0 | F13: =SUM(B12:F12) -> 0 | G13: =SUM(G12) -> 0 | H13: =G11/G13 -> #DIV/0!
A15: Subawardee: | B15: 3
B16: yr1 | C16: yr2 | D16: yr3 | E16: yr4 | F16: yr5 | G16: total
A17: Direct Costs | B17: 0 | C17: 0 | D17: 0 | E17: 0 | F17: 0 | G17: =SUM(B17:F17) -> 0
A18: Indirect Costs | B18: 0 | C18: 0 | D18: 0 | E18: 0 | F18: 0 | G18: =SUM(B18:F18) -> 0
A19: Total Costs | B19: =SUM(B17:B18) -> 0 | C19: =SUM(C17:C18) -> 0 | D19: =SUM(D17:D18) -> 0 | E19: =SUM(E17:E18) -> 0 | F19: =SUM(F17:F18) -> 0 | G19: =SUM(B19:F19) -> 0
A20: Running total | B20: =SUM(B19) -> 0 | C20: =SUM(B19:C19) -> 0 | D20: =SUM(B19:D19) -> 0 | E20: =SUM(B19:E19) -> 0 | F20: =SUM(B19:F19) -> 0 | G20: =SUM(G19) -> 0 | H20: =G18/G20 -> #DIV/0!
A22: Subawardee: | B22: 4
B23: yr1 | C23: yr2 | D23: yr3 | E23: yr4 | F23: yr5 | G23: total
A24: Direct Costs | B24: 0 | C24: 0 | D24: 0 | E24: 0 | F24: 0 | G24: =SUM(B24:F24) -> 0
A25: Indirect Costs | B25: 0 | C25: 0 | D25: 0 | E25: 0 | F25: 0 | G25: =SUM(B25:F25) -> 0
A26: Total Costs | B26: =SUM(B24:B25) -> 0 | C26: =SUM(C24:C25) -> 0 | D26: =SUM(D24:D25) -> 0 | E26: =SUM(E24:E25) -> 0 | F26: =SUM(F24:F25) -> 0 | G26: =SUM(B26:F26) -> 0
A27: Running total | B27: =SUM(B26) -> 0 | C27: =SUM(B26:C26) -> 0 | D27: =SUM(B26:D26) -> 0 | E27: =SUM(B26:E26) -> 0 | F27: =SUM(B26:F26) -> 0 | G27: =SUM(G26) -> 0 | H27: =G25/G27 -> #DIV/0!
A29: Subawardee: | B29: 5
B30: yr1 | C30: yr2 | D30: yr3 | E30: yr4 | F30: yr5 | G30: total
A31: Direct Costs | B31: 0 | C31: 0 | D31: 0 | E31: 0 | F31: 0 | G31: =SUM(B31:F31) -> 0
A32: Indirect Costs | B32: 0 | C32: 0 | D32: 0 | E32: 0 | F32: 0 | G32: =SUM(B32:F32) -> 0
A33: Total Costs | B33: =SUM(B31:B32) -> 0 | C33: =SUM(C31:C32) -> 0 | D33: =SUM(D31:D32) -> 0 | E33: =SUM(E31:E32) -> 0 | F33: =SUM(F31:F32) -> 0 | G33: =SUM(B33:F33) -> 0
A34: Running total | B34: =SUM(B33) -> 0 | C34: =SUM(B33:C33) -> 0 | D34: =SUM(B33:D33) -> 0 | E34: =SUM(B33:E33) -> 0 | F34: =SUM(B33:F33) -> 0 | G34: =SUM(G33) -> 0 | H34: =G32/G34 -> #DIV/0!
A36: Subawardee: | B36: 6
B37: yr1 | C37: yr2 | D37: yr3 | E37: yr4 | F37: yr5 | G37: total
A38: Direct Costs | B38: 0 | C38: 0 | D38: 0 | E38: 0 | F38: 0 | G38: =SUM(B38:F38) -> 0
A39: Indirect Costs | B39: 0 | C39: 0 | D39: 0 | E39: 0 | F39: 0 | G39: =SUM(B39:F39) -> 0
A40: Total Costs | B40: =SUM(B38:B39) -> 0 | C40: =SUM(C38:C39) -> 0 | D40: =SUM(D38:D39) -> 0 | E40: =SUM(E38:E39) -> 0 | F40: =SUM(F38:F39) -> 0 | G40: =SUM(B40:F40) -> 0
A41: Running total | B41: =SUM(B40) -> 0 | C41: =SUM(B40:C40) -> 0 | D41: =SUM(B40:D40) -> 0 | E41: =SUM(B40:E40) -> 0 | F41: =SUM(B40:F40) -> 0 | G41: =SUM(G40) -> 0 | H41: =G39/G41 -> #DIV/0!
A43: Total IDCs | B43: =SUM(B4,B11,B18,B25,B32,B39) -> 0 | C43: =SUM(C4,C11,C18,C25,C32,C39) -> 0 | D43: =SUM(D4,D11,D18,D25,D32,D39) -> 0 | E43: =SUM(E4,E11,E18,E25,E32,E39) -> 0 | F43: =SUM(F4,F11,F18,F25,F32,F39) -> 0 | G43: =SUM(B43:F43) -> 0

Sheet Participant Support Costs
A1: Participant Support Costs
B2: Year 1 | C2: Year 2 | D2: Year 3 | E2: Year 4 | F2: Year 5 | G2: Total
A3: Tuition/Fees/Health Insurance | B3: 0 | C3: 0 | D3: 0 | E3: 0 | F3: 0 | G3: =ROUND(SUM(B3:F3),0) -> 0
A4: Stipends | B4: 0 | C4: 0 | D4: 0 | E4: 0 | F4: 0 | G4: =ROUND(SUM(B4:F4),0) -> 0
A5: Travel | B5: 0 | C5: 0 | D5: 0 | E5: 0 | F5: 0 | G5: =ROUND(SUM(B5:F5),0) -> 0
A6: Subsistance | B6: 0 | C6: 0 | D6: 0 | E6: 0 | F6: 0 | G6: =ROUND(SUM(B6:F6),0) -> 0
A7: Other | B7: 0 | C7: 0 | D7: 0 | E7: 0 | F7: 0 | G7: =ROUND(SUM(B7:F7),0) -> 0
A8: Total | B8: =SUM(B3:B7) -> 0 | C8: =SUM(C3:C7) -> 0 | D8: =SUM(D3:D7) -> 0 | E8: =SUM(E3:E7) -> 0 | F8: =SUM(F3:F7) -> 0 | G8: =SUM(G3:G7) -> 0

Sheet GradStudentMinStipends
A1: Fiscal Year | B1: FY Start Date | C1: Minimum Stipend
A2: FY26 | B2: 45839 | C2: 35636
A3: FY27 | B3: 46204 | C3: 37417
A4: FY28 | B4: 46569 | C4: 39288
A5: **In future years, CALS suggest 2-3% increases per year
